BEGIN:VCALENDAR
VERSION:2.0
PRODID:-//Squarespace Inc/Squarespace 6//v6//EN
BEGIN:VEVENT
UID:5be8a46bcd8366853da61b85@squarespace.com
DTSTAMP:20181111T220725Z
DTSTART:20181208T000000Z
DTEND:20181209T210000Z
SUMMARY:Radix Residential Workshop Melbourne
END:VEVENT
END:VCALENDAR
