BEGIN:VCALENDAR
VERSION:2.0
PRODID:-//Squarespace Inc/Squarespace 6//v6//EN
BEGIN:VEVENT
UID:589db4773e00bea366d878b2@squarespace.com
DTSTAMP:20170210T124826Z
DTSTART:20170331T230000Z
DTEND:20170402T203000Z
SUMMARY:Radix Residential Weekend Workshop with Jacquie Cliff
END:VEVENT
END:VCALENDAR
